Workbook

Sheet PADRAO E REFERENCIA
B1: Produtividade | F1: Jornada Diária | G1: 8.8 | H1: Jornada Semanal | I1: 44 | L1: Agente x Líder x Encarregado
A2: Nº | B2: Tipo de Área | C2: Selecionar o tipo da superfície | D2: Padrão Definido | F2: Selecione a Periodicidade | G2: Horas de Trabalho no Mês | H2: % da Diária | I2: Jornadas no mês | J2: % 1 Hora na Jornada | L2: Mão de Obra | M2: Proporção (Mín) | N2: Proporção (Máx)
A3: 1 | B3: ='IN 05-2017'!A2 -> Área Interna | C3: ='IN 05-2017'!B2 -> 01.01.Pisos Acarpetados | D3: =MAX('IN 05-2017'!C2,'IN 05-2017'!D2) -> 1200 | F3: 01.Diária | G3: 220 | H3: =Tabela3[[#This Row],[Horas de Trabalho no Mês]]/Tabela3[[#This Row],[Horas de Trabalho no Mês]] -> 1 | I3: 22 | J3: =1/Tabela3[[#This Row],[Horas de Trabalho no Mês]] -> 0.0045454545 | L3: Agente | M3: 1 | N3: 4
A4: 2 | B4: ='IN 05-2017'!A3 -> Área Interna | C4: ='IN 05-2017'!B3 -> 01.02.Pisos Frios | D4: =MAX('IN 05-2017'!C3,'IN 05-2017'!D3) -> 1200 | F4: 02.Semanal | G4: =ROUND((G3/44),2)*8.8 -> 44 | H4: =Tabela3[[#This Row],[Horas de Trabalho no Mês]]/G3 -> 0.2 | I4: 5 | J4: =1/Tabela3[[#This Row],[Horas de Trabalho no Mês]] -> 0.022727273 | L4: Líder de Serviços | M4: 5 | N4: 10
A5: 3 | B5: ='IN 05-2017'!A4 -> Área Interna | C5: ='IN 05-2017'!B4 -> 01.02.Laboratórios | D5: =MAX('IN 05-2017'!C4,'IN 05-2017'!D4) -> 450 | F5: 03.Quinzenal | G5: =G4/2 -> 22 | H5: =Tabela3[[#This Row],[Horas de Trabalho no Mês]]/G3 -> 0.1 | I5: =I4/2 -> 2.5 | J5: =1/Tabela3[[#This Row],[Horas de Trabalho no Mês]] -> 0.045454545 | L5: Encarregado | M5: 11 | N5: 30
A6: 4 | B6: ='IN 05-2017'!A5 -> Área Interna | C6: ='IN 05-2017'!B5 -> 01.03.Almoxarifados e Galpões | D6: =MAX('IN 05-2017'!C5,'IN 05-2017'!D5) -> 2500 | F6: 04.Mensal | G6: =G1 -> 8.8 | H6: =Tabela3[[#This Row],[Horas de Trabalho no Mês]]/G3 -> 0.04 | I6: 1 | J6: =1/Tabela3[[#This Row],[Horas de Trabalho no Mês]] -> 0.11363636
A7: 5 | B7: ='IN 05-2017'!A6 -> Área Interna | C7: ='IN 05-2017'!B6 -> 01.04.Oficinas | D7: =MAX('IN 05-2017'!C6,'IN 05-2017'!D6) -> 1800 | F7: 05.Semestral | G7: =G6/6 -> 1.4666667 | H7: =Tabela3[[#This Row],[Horas de Trabalho no Mês]]/G3 -> 0.0066666667 | I7: =I6/6 -> 0.16666667 | J7: =J3*6 -> 0.027272727
A8: 6 | B8: ='IN 05-2017'!A7 -> Área Interna | C8: ='IN 05-2017'!B7 -> 01.05.Áreas com espaços livres (saguão, hall e salão) | D8: =MAX('IN 05-2017'!C7,'IN 05-2017'!D7) -> 1500
A9: 7 | B9: ='IN 05-2017'!A8 -> Área Interna | C9: ='IN 05-2017'!B8 -> 01.06.Banheiros | D9: =MAX('IN 05-2017'!C8,'IN 05-2017'!D8) -> 300
A10: 8 | B10: ='IN 05-2017'!A9 -> Área Externa | C10: ='IN 05-2017'!B9 -> 02.01.Pisos pavimentados adjacentes e contíguos às edificações | D10: =MAX('IN 05-2017'!C9,'IN 05-2017'!D9) -> 2700 | F10: PERCENTUAIS DE DESLIGAMENTOS - SEM JUSTA CAUSA | G10: PERCENTUAIS
A11: 9 | B11: ='IN 05-2017'!A10 -> Área Externa | C11: ='IN 05-2017'!B10 -> 02.01.Varrição de passeios e arruamentos | D11: =MAX('IN 05-2017'!C10,'IN 05-2017'!D10) -> 9000 | F11: AP INDENIZADO | G11: 0.0555
A12: 10 | B12: ='IN 05-2017'!A11 -> Área Externa | C12: ='IN 05-2017'!B11 -> 02.03.Pátios e áreas verdes com alta frequência | D12: =MAX('IN 05-2017'!C11,'IN 05-2017'!D11) -> 2700 | F12: AP TRABALHADO | G12: =100%-G11 -> 0.9445
A13: 11 | B13: ='IN 05-2017'!A12 -> Área Externa | C13: ='IN 05-2017'!B12 -> 02.04.Pátios e áreas verdes com média frequência | D13: =MAX('IN 05-2017'!C12,'IN 05-2017'!D12) -> 2700
A14: 12 | B14: ='IN 05-2017'!A13 -> Área Externa | C14: ='IN 05-2017'!B13 -> 02.05.Pátios e áreas verdes com baixa frequência | D14: =MAX('IN 05-2017'!C13,'IN 05-2017'!D13) -> 2700
A15: 13 | B15: ='IN 05-2017'!A14 -> Área Externa | C15: ='IN 05-2017'!B14 -> 02.06.Coleta de detritos em pátios e áreas verdes com frequência diária | D15: =MAX('IN 05-2017'!C14,'IN 05-2017'!D14) -> 100000
A16: 14 | B16: ='IN 05-2017'!A15 -> Esquadrias | C16: ='IN 05-2017'!B15 -> 03.01.Face externa com exposição a situação de risco | D16: =MAX('IN 05-2017'!C15,'IN 05-2017'!D15) -> 160
A17: 15 | B17: ='IN 05-2017'!A16 -> Esquadrias | C17: ='IN 05-2017'!B16 -> 03.02.Face externa sem exposição a situação de risco | D17: =MAX('IN 05-2017'!C16,'IN 05-2017'!D16) -> 380
A18: 16 | B18: ='IN 05-2017'!A17 -> Esquadrias | C18: ='IN 05-2017'!B17 -> 03.03.Face interna | D18: =MAX('IN 05-2017'!C17,'IN 05-2017'!D17) -> 380
A19: 17 | B19: ='IN 05-2017'!A18 -> Fachadas Envidraçadas | C19: ='IN 05-2017'!B18 -> 04.01.Fachadas Envidraçadas | D19: =MAX('IN 05-2017'!C18,'IN 05-2017'!D18) -> 160
A20: 18 | B20: ='IN 05-2017'!A19 -> Áreas Hospitalares e similares | C20: ='IN 05-2017'!B19 -> 05.01.Enfermaria | D20: =MAX('IN 05-2017'!C19,'IN 05-2017'!D19) -> 450
A21: 19 | B21: ='IN 05-2017'!A20 -> Não definido | C21: ='IN 05-2017'!B20 -> 99.99.Não definido | D21: =MAX('IN 05-2017'!C20,'IN 05-2017'!D20) -> 0
B22: ='IN 05-2017'!A21 -> 0 | C22: ='IN 05-2017'!B21 -> 0 | D22: =MAX('IN 05-2017'!C21,'IN 05-2017'!D21) -> 0

Sheet IN 05-2017
A1: Tipo de Área | B1: Subtipo | C1: Produtividade Mínima (m2) | D1: Produtividade Máxima (m2)
A2: Área Interna | B2: 01.01.Pisos Acarpetados | C2: 800 | D2: 1200
A3: Área Interna | B3: 01.02.Pisos Frios | C3: 800 | D3: 1200
A4: Área Interna | B4: 01.02.Laboratórios | C4: 360 | D4: 450
A5: Área Interna | B5: 01.03.Almoxarifados e Galpões | C5: 1500 | D5: 2500
A6: Área Interna | B6: 01.04.Oficinas | C6: 1200 | D6: 1800
A7: Área Interna | B7: 01.05.Áreas com espaços livres (saguão, hall e salão) | C7: 1000 | D7: 1500
A8: Área Interna | B8: 01.06.Banheiros | C8: 200 | D8: 300
A9: Área Externa | B9: 02.01.Pisos pavimentados adjacentes e contíguos às edificações | C9: 1800 | D9: 2700
A10: Área Externa | B10: 02.01.Varrição de passeios e arruamentos | C10: 6000 | D10: 9000
A11: Área Externa | B11: 02.03.Pátios e áreas verdes com alta frequência | C11: 1800 | D11: 2700
A12: Área Externa | B12: 02.04.Pátios e áreas verdes com média frequência | C12: 1800 | D12: 2700
A13: Área Externa | B13: 02.05.Pátios e áreas verdes com baixa frequência | C13: 1800 | D13: 2700
... A20: Não definido | B20: 99.99.Não definido | C20: 0 | D20: 0
B24: LIMPEZA E CONSERVAÇÃO | C24: Maximo | D24: Mínimo
B25: Custos Indiretos | C25: 0.06 | D25: 0.035
B26: Tributos | C26: =SUM(C27:C29) -> 0.0865 | D26: =SUM(D27:D29) -> 0.082
B27: PIS | C27: 0.0065 | D27: 0.0057
B28: COFINS | C28: 0.03 | D28: 0.0263
B29: ISS | C29: 0.05 | D29: 0.05
B30: Lucro | C30: 0.0679 | D30: 0.039

Sheet VERIFICAÇÃO DO DESEQUILÍBRIO
A1: Item | B1: Tipo da Área | C1: Área Efetiva Mensal | D1: Produtividade Média Diária | E1: Mão de Obra | F1: Média de custos do M2 limpo pelo Agente | G1: Média de custos do M2 limpo pelo Líder | H1: Média de Custos do M2 limpo total | I1: Remuneração Mensal Agente | J1: Remuneração Mensal Líder | K1: Remuneração Mensal Total | L1: Meses do Contrato | M1: Remuneração Anual
A2: 1 | B2: 01.02.Pisos Frios | C2: =IF(Tabela756[[#This Row],[Tipo da Área]]="","",VLOOKUP(Tabela756[[#This Row],[Tipo da Área]],'TABELA DE ATUALIZAÇÃO PROPOSTA'!$A$3:$K$59,2,FALSE)) -> 3199.422 | D2: =VLOOKUP(Tabela756[[#This Row],[Tipo da Área]],'TABELA DE ATUALIZAÇÃO PROPOSTA'!$A$4:$K$60,3,FALSE) -> 1200 | E2: =IF(Tabela756[[#This Row],[Tipo da Área]]="","",VLOOKUP(Tabela756[[#This Row],[Tipo da Área]],'TABELA DE ATUALIZAÇÃO PROPOSTA'!$A$3:$K$59,4,FALSE)) -> 2.666185 | F2: =IF(Tabela756[[#This Row],[Tipo da Área]]="","",VLOOKUP(Tabela756[[#This Row],[Tipo da Área]],'TABELA DE ATUALIZAÇÃO PROPOSTA'!$A$3:$K$59,5,FALSE)) -> 2.2584762 | G2: =IF(Tabela756[[#This Row],[Tipo da Área]]="","",VLOOKUP(Tabela756[[#This Row],[Tipo da Área]],'TABELA DE ATUALIZAÇÃO PROPOSTA'!$A$3:$K$59,6,FALSE)) -> 0.52328362 | H2: =IF(Tabela756[[#This Row],[Tipo da Área]]="","",VLOOKUP(Tabela756[[#This Row],[Tipo da Área]],'TABELA DE ATUALIZAÇÃO PROPOSTA'!$A$3:$K$59,7,FALSE)) -> 2.7817598 | I2: =IF(Tabela756[[#This Row],[Tipo da Área]]="","",VLOOKUP(Tabela756[[#This Row],[Tipo da Área]],'TABELA DE ATUALIZAÇÃO PROPOSTA'!$A$3:$K$59,8,FALSE)) -> 7225.8185 | J2: =IF(Tabela756[[#This Row],[Tipo da Área]]="","",VLOOKUP(Tabela756[[#This Row],[Tipo da Área]],'TABELA DE ATUALIZAÇÃO PROPOSTA'!$A$3:$K$59,9,FALSE)) -> 1674.2051 | K2: =IF(Tabela756[[#This Row],[Tipo da Área]]="","",VLOOKUP(Tabela756[[#This Row],[Tipo da Área]],'TABELA DE ATUALIZAÇÃO PROPOSTA'!$A$3:$K$59,10,FALSE)) -> 8900.0236 | L2: 12 | M2: =Tabela756[[#This Row],[Meses do Contrato]]*Tabela756[[#This Row],[Remuneração Mensal Total]] -> 106800.28
A3: 2 | B3: 01.02.Laboratórios | C3: =IF(Tabela756[[#This Row],[Tipo da Área]]="","",VLOOKUP(Tabela756[[#This Row],[Tipo da Área]],'TABELA DE ATUALIZAÇÃO PROPOSTA'!$A$3:$K$59,2,FALSE)) -> 328.38 | D3: =VLOOKUP(Tabela756[[#This Row],[Tipo da Área]],'TABELA DE ATUALIZAÇÃO PROPOSTA'!$A$4:$K$60,3,FALSE) -> 392 | E3: =IF(Tabela756[[#This Row],[Tipo da Área]]="","",VLOOKUP(Tabela756[[#This Row],[Tipo da Área]],'TABELA DE ATUALIZAÇÃO PROPOSTA'!$A$3:$K$59,4,FALSE)) -> 0.83671329 | F3: =IF(Tabela756[[#This Row],[Tipo da Área]]="","",VLOOKUP(Tabela756[[#This Row],[Tipo da Área]],'TABELA DE ATUALIZAÇÃO PROPOSTA'!$A$3:$K$59,5,FALSE)) -> 6.9140608 | G3: =IF(Tabela756[[#This Row],[Tipo da Área]]="","",VLOOKUP(Tabela756[[#This Row],[Tipo da Área]],'TABELA DE ATUALIZAÇÃO PROPOSTA'!$A$3:$K$59,6,FALSE)) -> 1.6019716 | H3: =IF(Tabela756[[#This Row],[Tipo da Área]]="","",VLOOKUP(Tabela756[[#This Row],[Tipo da Área]],'TABELA DE ATUALIZAÇÃO PROPOSTA'!$A$3:$K$59,7,FALSE)) -> 8.5160324 | I3: =IF(Tabela756[[#This Row],[Tipo da Área]]="","",VLOOKUP(Tabela756[[#This Row],[Tipo da Área]],'TABELA DE ATUALIZAÇÃO PROPOSTA'!$A$3:$K$59,8,FALSE)) -> 2267.6365 | J3: =IF(Tabela756[[#This Row],[Tipo da Área]]="","",VLOOKUP(Tabela756[[#This Row],[Tipo da Área]],'TABELA DE ATUALIZAÇÃO PROPOSTA'!$A$3:$K$59,9,FALSE)) -> 525.40603 | K3: =IF(Tabela756[[#This Row],[Tipo da Área]]="","",VLOOKUP(Tabela756[[#This Row],[Tipo da Área]],'TABELA DE ATUALIZAÇÃO PROPOSTA'!$A$3:$K$59,10,FALSE)) -> 2793.0425 | L3: 12 | M3: =Tabela756[[#This Row],[Meses do Contrato]]*Tabela756[[#This Row],[Remuneração Mensal Total]] -> 33516.51
A4: 3 | B4: 01.06.Banheiros | C4: =IF(Tabela756[[#This Row],[Tipo da Área]]="","",VLOOKUP(Tabela756[[#This Row],[Tipo da Área]],'TABELA DE ATUALIZAÇÃO PROPOSTA'!$A$3:$K$59,2,FALSE)) -> 155.9784 | D4: =VLOOKUP(Tabela756[[#This Row],[Tipo da Área]],'TABELA DE ATUALIZAÇÃO PROPOSTA'!$A$4:$K$60,3,FALSE) -> 300 | E4: =IF(Tabela756[[#This Row],[Tipo da Área]]="","",VLOOKUP(Tabela756[[#This Row],[Tipo da Área]],'TABELA DE ATUALIZAÇÃO PROPOSTA'!$A$3:$K$59,4,FALSE)) -> 0.519928 | F4: =IF(Tabela756[[#This Row],[Tipo da Área]]="","",VLOOKUP(Tabela756[[#This Row],[Tipo da Área]],'TABELA DE ATUALIZAÇÃO PROPOSTA'!$A$3:$K$59,5,FALSE)) -> 9.0339049 | G4: =IF(Tabela756[[#This Row],[Tipo da Área]]="","",VLOOKUP(Tabela756[[#This Row],[Tipo da Área]],'TABELA DE ATUALIZAÇÃO PROPOSTA'!$A$3:$K$59,6,FALSE)) -> 2.0931345 | H4: =IF(Tabela756[[#This Row],[Tipo da Área]]="","",VLOOKUP(Tabela756[[#This Row],[Tipo da Área]],'TABELA DE ATUALIZAÇÃO PROPOSTA'!$A$3:$K$59,7,FALSE)) -> 11.127039 | I4: =IF(Tabela756[[#This Row],[Tipo da Área]]="","",VLOOKUP(Tabela756[[#This Row],[Tipo da Área]],'TABELA DE ATUALIZAÇÃO PROPOSTA'!$A$3:$K$59,8,FALSE)) -> 1409.094 | J4: =IF(Tabela756[[#This Row],[Tipo da Área]]="","",VLOOKUP(Tabela756[[#This Row],[Tipo da Área]],'TABELA DE ATUALIZAÇÃO PROPOSTA'!$A$3:$K$59,9,FALSE)) -> 326.48376 | K4: =IF(Tabela756[[#This Row],[Tipo da Área]]="","",VLOOKUP(Tabela756[[#This Row],[Tipo da Área]],'TABELA DE ATUALIZAÇÃO PROPOSTA'!$A$3:$K$59,10,FALSE)) -> 1735.5778 | L4: 12 | M4: =Tabela756[[#This Row],[Meses do Contrato]]*Tabela756[[#This Row],[Remuneração Mensal Total]] -> 20826.933
A5: 4 | B5: 02.01.Pisos pavimentados adjacentes e contíguos às edificações | C5: =IF(Tabela756[[#This Row],[Tipo da Área]]="","",VLOOKUP(Tabela756[[#This Row],[Tipo da Área]],'TABELA DE ATUALIZAÇÃO PROPOSTA'!$A$3:$K$59,2,FALSE)) -> 424.5 | D5: =VLOOKUP(Tabela756[[#This Row],[Tipo da Área]],'TABELA DE ATUALIZAÇÃO PROPOSTA'!$A$4:$K$60,3,FALSE) -> 2700 | E5: =IF(Tabela756[[#This Row],[Tipo da Área]]="","",VLOOKUP(Tabela756[[#This Row],[Tipo da Área]],'TABELA DE ATUALIZAÇÃO PROPOSTA'!$A$3:$K$59,4,FALSE)) -> 0.15722222 | F5: =IF(Tabela756[[#This Row],[Tipo da Área]]="","",VLOOKUP(Tabela756[[#This Row],[Tipo da Área]],'TABELA DE ATUALIZAÇÃO PROPOSTA'!$A$3:$K$59,5,FALSE)) -> 1.0037672 | G5: =IF(Tabela756[[#This Row],[Tipo da Área]]="","",VLOOKUP(Tabela756[[#This Row],[Tipo da Área]],'TABELA DE ATUALIZAÇÃO PROPOSTA'!$A$3:$K$59,6,FALSE)) -> 0.2325705 | H5: =IF(Tabela756[[#This Row],[Tipo da Área]]="","",VLOOKUP(Tabela756[[#This Row],[Tipo da Área]],'TABELA DE ATUALIZAÇÃO PROPOSTA'!$A$3:$K$59,7,FALSE)) -> 1.2363377 | I5: =IF(Tabela756[[#This Row],[Tipo da Área]]="","",VLOOKUP(Tabela756[[#This Row],[Tipo da Área]],'TABELA DE ATUALIZAÇÃO PROPOSTA'!$A$3:$K$59,8,FALSE)) -> 426.09918 | J5: =IF(Tabela756[[#This Row],[Tipo da Área]]="","",VLOOKUP(Tabela756[[#This Row],[Tipo da Área]],'TABELA DE ATUALIZAÇÃO PROPOSTA'!$A$3:$K$59,9,FALSE)) -> 98.726176 | K5: =IF(Tabela756[[#This Row],[Tipo da Área]]="","",VLOOKUP(Tabela756[[#This Row],[Tipo da Área]],'TABELA DE ATUALIZAÇÃO PROPOSTA'!$A$3:$K$59,10,FALSE)) -> 524.82535 | L5: 12 | M5: =Tabela756[[#This Row],[Meses do Contrato]]*Tabela756[[#This Row],[Remuneração Mensal Total]] -> 6297.9043
A6: 5 | B6: 03.01.Face externa com exposição a situação de risco | C6: =IF(Tabela756[[#This Row],[Tipo da Área]]="","",VLOOKUP(Tabela756[[#This Row],[Tipo da Área]],'TABELA DE ATUALIZAÇÃO PROPOSTA'!$A$3:$K$59,2,FALSE)) -> 99.64 | D6: =VLOOKUP(Tabela756[[#This Row],[Tipo da Área]],'TABELA DE ATUALIZAÇÃO PROPOSTA'!$A$4:$K$60,3,FALSE) -> 160 | E6: =IF(Tabela756[[#This Row],[Tipo da Área]]="","",VLOOKUP(Tabela756[[#This Row],[Tipo da Área]],'TABELA DE ATUALIZAÇÃO PROPOSTA'!$A$3:$K$59,4,FALSE)) -> 0.62275 | F6: =IF(Tabela756[[#This Row],[Tipo da Área]]="","",VLOOKUP(Tabela756[[#This Row],[Tipo da Área]],'TABELA DE ATUALIZAÇÃO PROPOSTA'!$A$3:$K$59,5,FALSE)) -> 16.938572 | G6: =IF(Tabela756[[#This Row],[Tipo da Área]]="","",VLOOKUP(Tabela756[[#This Row],[Tipo da Área]],'TABELA DE ATUALIZAÇÃO PROPOSTA'!$A$3:$K$59,6,FALSE)) -> 3.9246271 | H6: =IF(Tabela756[[#This Row],[Tipo da Área]]="","",VLOOKUP(Tabela756[[#This Row],[Tipo da Área]],'TABELA DE ATUALIZAÇÃO PROPOSTA'!$A$3:$K$59,7,FALSE)) -> 20.863199 | I6: =IF(Tabela756[[#This Row],[Tipo da Área]]="","",VLOOKUP(Tabela756[[#This Row],[Tipo da Área]],'TABELA DE ATUALIZAÇÃO PROPOSTA'!$A$3:$K$59,8,FALSE)) -> 1687.7593 | J6: =IF(Tabela756[[#This Row],[Tipo da Área]]="","",VLOOKUP(Tabela756[[#This Row],[Tipo da Área]],'TABELA DE ATUALIZAÇÃO PROPOSTA'!$A$3:$K$59,9,FALSE)) -> 391.04985 | K6: =IF(Tabela756[[#This Row],[Tipo da Área]]="","",VLOOKUP(Tabela756[[#This Row],[Tipo da Área]],'TABELA DE ATUALIZAÇÃO PROPOSTA'!$A$3:$K$59,10,FALSE)) -> 2078.8091 | L6: 12 | M6: =Tabela756[[#This Row],[Meses do Contrato]]*Tabela756[[#This Row],[Remuneração Mensal Total]] -> 24945.709
A7: 6 | B7: 03.03.Face interna | C7: =IF(Tabela756[[#This Row],[Tipo da Área]]="","",VLOOKUP(Tabela756[[#This Row],[Tipo da Área]],'TABELA DE ATUALIZAÇÃO PROPOSTA'!$A$3:$K$59,2,FALSE)) -> 21.8 | D7: =VLOOKUP(Tabela756[[#This Row],[Tipo da Área]],'TABELA DE ATUALIZAÇÃO PROPOSTA'!$A$4:$K$60,3,FALSE) -> 380 | E7: =IF(Tabela756[[#This Row],[Tipo da Área]]="","",VLOOKUP(Tabela756[[#This Row],[Tipo da Área]],'TABELA DE ATUALIZAÇÃO PROPOSTA'!$A$3:$K$59,4,FALSE)) -> 0.057368421 | F7: =IF(Tabela756[[#This Row],[Tipo da Área]]="","",VLOOKUP(Tabela756[[#This Row],[Tipo da Área]],'TABELA DE ATUALIZAÇÃO PROPOSTA'!$A$3:$K$59,5,FALSE)) -> 7.1320302 | G7: =IF(Tabela756[[#This Row],[Tipo da Área]]="","",VLOOKUP(Tabela756[[#This Row],[Tipo da Área]],'TABELA DE ATUALIZAÇÃO PROPOSTA'!$A$3:$K$59,6,FALSE)) -> 1.6524746 | H7: =IF(Tabela756[[#This Row],[Tipo da Área]]="","",VLOOKUP(Tabela756[[#This Row],[Tipo da Área]],'TABELA DE ATUALIZAÇÃO PROPOSTA'!$A$3:$K$59,7,FALSE)) -> 8.7845047 | I7: =IF(Tabela756[[#This Row],[Tipo da Área]]="","",VLOOKUP(Tabela756[[#This Row],[Tipo da Área]],'TABELA DE ATUALIZAÇÃO PROPOSTA'!$A$3:$K$59,8,FALSE)) -> 155.47826 | J7: =IF(Tabela756[[#This Row],[Tipo da Área]]="","",VLOOKUP(Tabela756[[#This Row],[Tipo da Área]],'TABELA DE ATUALIZAÇÃO PROPOSTA'!$A$3:$K$59,9,FALSE)) -> 36.023946 | K7: =IF(Tabela756[[#This Row],[Tipo da Área]]="","",VLOOKUP(Tabela756[[#This Row],[Tipo da Área]],'TABELA DE ATUALIZAÇÃO PROPOSTA'!$A$3:$K$59,10,FALSE)) -> 191.5022 | L7: 12 | M7: =Tabela756[[#This Row],[Meses do Contrato]]*Tabela756[[#This Row],[Remuneração Mensal Total]] -> 2298.0264
A8: 7 | B8: 04.01.Fachadas Envidraçadas | C8: =IF(Tabela756[[#This Row],[Tipo da Área]]="","",VLOOKUP(Tabela756[[#This Row],[Tipo da Área]],'TABELA DE ATUALIZAÇÃO PROPOSTA'!$A$3:$K$59,2,FALSE)) -> 22.42 | D8: =VLOOKUP(Tabela756[[#This Row],[Tipo da Área]],'TABELA DE ATUALIZAÇÃO PROPOSTA'!$A$4:$K$60,3,FALSE) -> 160 | E8: =IF(Tabela756[[#This Row],[Tipo da Área]]="","",VLOOKUP(Tabela756[[#This Row],[Tipo da Área]],'TABELA DE ATUALIZAÇÃO PROPOSTA'!$A$3:$K$59,4,FALSE)) -> 0.140125 | F8: =IF(Tabela756[[#This Row],[Tipo da Área]]="","",VLOOKUP(Tabela756[[#This Row],[Tipo da Área]],'TABELA DE ATUALIZAÇÃO PROPOSTA'!$A$3:$K$59,5,FALSE)) -> 16.938572 | G8: =IF(Tabela756[[#This Row],[Tipo da Área]]="","",VLOOKUP(Tabela756[[#This Row],[Tipo da Área]],'TABELA DE ATUALIZAÇÃO PROPOSTA'!$A$3:$K$59,6,FALSE)) -> 3.9246271 | H8: =IF(Tabela756[[#This Row],[Tipo da Área]]="","",VLOOKUP(Tabela756[[#This Row],[Tipo da Área]],'TABELA DE ATUALIZAÇÃO PROPOSTA'!$A$3:$K$59,7,FALSE)) -> 20.863199 | I8: =IF(Tabela756[[#This Row],[Tipo da Área]]="","",VLOOKUP(Tabela756[[#This Row],[Tipo da Área]],'TABELA DE ATUALIZAÇÃO PROPOSTA'!$A$3:$K$59,8,FALSE)) -> 379.76278 | J8: =IF(Tabela756[[#This Row],[Tipo da Área]]="","",VLOOKUP(Tabela756[[#This Row],[Tipo da Área]],'TABELA DE ATUALIZAÇÃO PROPOSTA'!$A$3:$K$59,9,FALSE)) -> 87.99014 | K8: =IF(Tabela756[[#This Row],[Tipo da Área]]="","",VLOOKUP(Tabela756[[#This Row],[Tipo da Área]],'TABELA DE ATUALIZAÇÃO PROPOSTA'!$A$3:$K$59,10,FALSE)) -> 467.75292 | L8: 12 | M8: =Tabela756[[#This Row],[Meses do Contrato]]*Tabela756[[#This Row],[Remuneração Mensal Total]] -> 5613.035
B9: Total | C9: =SUBTOTAL(109,Tabela756[Área Efetiva Mensal]) -> 4252.1404 | D9: Calculado | E9: =SUBTOTAL(109,Tabela756[Mão de Obra]) -> 5.0002919 | F9: =SUBTOTAL(101,Tabela756[Média de custos do M2 limpo pelo Agente]) -> 8.6027689 | G9: =SUBTOTAL(101,Tabela756[Média de custos do M2 limpo pelo Líder]) -> 1.9932413 | H9: =SUBTOTAL(101,Tabela756[Média de Custos do M2 limpo total]) -> 10.59601 | I9: =SUBTOTAL(109,Tabela756[Remuneração Mensal Agente]) -> 13551.648 | J9: =SUBTOTAL(109,Tabela756[Remuneração Mensal Líder]) -> 3139.885 | K9: =SUBTOTAL(109,Tabela756[Remuneração Mensal Total]) -> 16691.533 | L9: =SUBTOTAL(101,Tabela756[Meses do Contrato]) -> 12 | M9: =SUBTOTAL(109,Tabela756[Remuneração Anual]) -> 200298.4
D10: Material | K10: =Tabela14[[#Totals],[CUSTO MÉDIO MENSAL (R$)]] -> 3308.4662 | L10: 12 | M10: =L10*K10 -> 39701.595
D11: Total Geral | M11: =Tabela756[[#Totals],[Remuneração Anual]]+M10 -> 240000
A15: Item | B15: Encargo | C15: Qtd | D15: Valor Médio Mensal por empregado | E15: Valor Médio Mensal Total | F15: Vigência do Contrato em Meses | G15: Valor Médio Anual do Contrato | H15: Proporção dos Custos do Contrato
B16: Agente de Limpeza | C16: =Tabela5[[#Totals],[Mão de Obras]] -> 5.0002919 | D16: ='PLANILHA DE CUSTOS'!G14 -> 2710.1715 | E16: =D16*C16 -> 13551.648 | F16: 12 | G16: =F16*E16 -> 162619.78 | H16: =G16/$G$20 -> 0.67758243
B17: Líder de Serviços | C17: =IF(C16>4,1,0) -> 1 | D17: ='PLANILHA DE CUSTOS'!G13 -> 3139.885 | E17: =D17*C17 -> 3139.885 | F17: 12 | G17: =F17*E17 -> 37678.62 | H17: =G17/$G$20 -> 0.15699425
A18: 1 | B18: Total da Mão de Obra | C18: =SUBTOTAL(109,C16:C17) -> 6.0002919 | D18: =SUBTOTAL(109,D16:D17) -> 5850.0565 | E18: =SUM(E16:E17) -> 16691.533 | F18: 12 | G18: =SUM(G16:G17) -> 200298.4 | H18: =G18/$G$20 -> 0.83457669
A19: 2 | B19: Materiais | C19: Diversos | E19: =Tabela14[[#Totals],[CUSTO MÉDIO MENSAL (R$)]] -> 3308.4662 | F19: 12 | G19: =F19*E19 -> 39701.595 | H19: =G19/$G$20 -> 0.16542331
B20: Custo Global | E20: =SUM(E18:E19) -> 20000 | F20: 12 | G20: =SUM(G18:G19) -> 240000 | H20: =G20/$G$20 -> 1
A22: DESEQUILÍBRIO DA PROPOSTA
A24: Item | B24: Descrição | C24: Valor Médio Mensal por empregado M2 | D24: Valor Médio anual Total M2 | E24: Valor Médio Mensal por empregado quantidade | F24: Valor Médio anual Total Quantidade | G24: Desequilíbrio de Confronto Mensal | H24: Desequilíbrio de Confronto Anual
B25: Agente de Limpeza | C25: =Tabela756[[#Totals],[Remuneração Mensal Agente]] -> 13551.648 | D25: =Tabela640[[#This Row],[Valor Médio Mensal por empregado M2]]*12 -> 162619.78 | E25: =E16 -> 13551.648 | F25: =Tabela640[[#This Row],[Valor Médio Mensal por empregado quantidade]]*12 -> 162619.78 | G25: =Tabela640[[#This Row],[Valor Médio Mensal por empregado M2]]-Tabela640[[#This Row],[Valor Médio Mensal por empregado quantidade]] -> 0 | H25: =Tabela640[[#This Row],[Valor Médio anual Total M2]]-Tabela640[[#This Row],[Valor Médio anual Total Quantidade]] -> 0
B26: Líder de Serviços | C26: =Tabela756[[#Totals],[Remuneração Mensal Líder]] -> 3139.885 | D26: =Tabela640[[#This Row],[Valor Médio Mensal por empregado M2]]*12 -> 37678.62 | E26: =E17 -> 3139.885 | F26: =Tabela640[[#This Row],[Valor Médio Mensal por empregado quantidade]]*12 -> 37678.62 | G26: =Tabela640[[#This Row],[Valor Médio Mensal por empregado M2]]-Tabela640[[#This Row],[Valor Médio Mensal por empregado quantidade]] -> 0 | H26: =Tabela640[[#This Row],[Valor Médio anual Total M2]]-Tabela640[[#This Row],[Valor Médio anual Total Quantidade]] -> 0
A27: 1 | B27: Total da Mão de Obra | C27: =SUM(C25:C26) -> 16691.533 | D27: =SUM(D25:D26) -> 200298.4 | E27: =SUM(E25:E26) -> 16691.533 | F27: =SUM(F25:F26) -> 200298.4 | G27: =Tabela640[[#This Row],[Valor Médio Mensal por empregado M2]]-Tabela640[[#This Row],[Valor Médio Mensal por empregado quantidade]] -> 0 | H27: =Tabela640[[#This Row],[Valor Médio anual Total M2]]-Tabela640[[#This Row],[Valor Médio anual Total Quantidade]] -> 0
A28: 2 | B28: Materiais | C28: =K10 -> 3308.4662 | D28: =Tabela640[[#This Row],[Valor Médio Mensal por empregado M2]]*12 -> 39701.595 | E28: =E19 -> 3308.4662 | F28: =Tabela640[[#This Row],[Valor Médio Mensal por empregado quantidade]]*12 -> 39701.595 | G28: =Tabela640[[#This Row],[Valor Médio Mensal por empregado M2]]-Tabela640[[#This Row],[Valor Médio Mensal por empregado quantidade]] -> 0 | H28: =Tabela640[[#This Row],[Valor Médio anual Total M2]]-Tabela640[[#This Row],[Valor Médio anual Total Quantidade]] -> 0
B29: Custo Global | C29: =SUM(C27:C28) -> 20000 | D29: =SUM(D27:D28) -> 240000 | E29: =SUM(E27:E28) -> 20000 | F29: =SUM(F27:F28) -> 240000 | G29: =SUM(G27:G28) -> 0 | H29: =Tabela640[[#This Row],[Valor Médio anual Total M2]]-Tabela640[[#This Row],[Valor Médio anual Total Quantidade]] -> 0
A31: Importante: Quando o desequilíbrio é positivo o prejuizo é para o IFAM, quando torna-se negativo o prejuizo é para a empresa
A32: NOTA 01: | B32: Quando houver prejuizo para a empresa, no momento da análise da proposta deve-se colocar em contrapartida com o lucro anual, ou seja, prejuizo anual da empresa versus lucro anual da proposta
A33: NOTA 02: Quando houver prejuizo para o IFAM o pregoeiro pode solicitar um desconto no limite do prejuizo sem afetar a proposta

Sheet PARAMETROS DA CONTRATAÇÃO
A1: INDENTIFICAÇÃO DA EMPRESA LICITANTE E PROPOSTA DA LICITAÇÃO | D1: PARÂMETROS DA CONVENÇÃO COLETIVA | J1: PARÂMETRO PARA TRIBUTAÇÃO, LUCRO E CUSTOS INDIRETOS | P1: PARÂMETROS PARA MÓDULO RESCISÃO E SUBSTITUTO NAS AUSÊNCIAS LEGAIS | W1: PARÂMETRO PARA FARDAMENTO, EQUIPAMENTOS E UTENSÍLIOS | AB1: PARÂMETRO PARA MATERIAIS
A6: INDETIFICAÇÃO DA LICITANTE | B6: RESULTADO | D6: CONVEÇÃO COLETIVA VIGENTE | E6: LIMPEZA E CONSERVAÇÃO | G6: CONVEÇÃO COLETIVA VIGENTE | H6: LIMPEZA E CONSERVAÇÃO | J6: PARÂMETROS - SUBMÓDULO 2.2 | K6: AGENTE DE LIMPEZA | M6: PARÂMETROS - SUBMÓDULO 2.2 | N6: LIDER DE LIMPEZA | P6: Módulo Rescisão | Q6: Percentuais (%) | S6: Parâmetros- Módulo Substituto nas Ausências Legais | T6: Categoria | U6: Percentual de Incidencia Estudo | W6: ITEM | X6: FARDAMENTO | Y6: VALOR (R$) | AB6: ITEM | AC6: DESCRIÇÃO | AD6: UNIDADE | AE6: CATMAT | AF6: PREÇO MÉDIO UNITÁRIO (R$)
A7: RAZÃO SOCIAL: | B7: GM CONSERVAÇÃO E LIMPEZA EIRELI | D7: Município | E7: MANAUS - AM | G7: Município | H7: MANAUS - AM | J7: Total de Encargos | K7: =SUM(K8:K15) -> 0.31 | M7: Total de Encargos | N7: =SUM(N8:N15) -> 0.31 | P7: Demissão sem justa Causa | Q7: 0.5624 | S7: A. Substituto na cobertura de Férias | T7: Férias | U7: =(1+1/3)/12 -> 0.11111111 | W7: 1 | X7: Calça comprida com elástico e cordão, em gabardine, c/ bolsos frontais. | Y7: 25 | AB7: 1 | AC7: Água sanitária de 1ª qualidade | AD7: GARRAFAS 1L | AE7: 226700 | AF7: 6.5
A8: CNPJ: | B8: 17.764.351/0001-71 | D8: Meses do Contrato | E8: 12 | G8: Meses do Contrato | H8: 12 | J8: INSS - empregador | K8: 0.2 | M8: INSS - empregador | N8: 0.2 | P8: Demissão com justa causa | Q8: 0.0231 | S8: B. Substituto na cobertura de Ausências Legais | T8: Ausência justificada | U8: 1 | W8: 2 | X8: Calçado feminino/masculino de segurança de couro, com biqueira de polipropileno, elástico nas laterais, palmilha antibacteriana. | Y8: 30 | AB8: 2 | AC8: Álcool , de 1ª qualidade, 92° a 93° INPM | AD8: GARRAFAS 1L | AE8: 441577 | AF8: 1.758
A9: NOME FANTASIA: | B9: GM CONSERVADORA | D9: Serviço | E9: Conservação e Limpeza | G9: Serviço | H9: Conservação e Limpeza | J9: Salário-Educação | K9: 0 | M9: Salário-Educação | N9: 0 | P9: Desligamento outros | Q9: 0.4145 | S9: C. Substituto na cobertura de Licença-Paternidade | T9: Paternidade | U9: 0.0122 | W9: 3 | X9: Camiseta malha fria manga longa, com gola esporte, em gabardine, com emblema da empresa pintado ou bordado. | Y9: 20 | AB9: 3 | AC9: Álcool em gel 70º INPM embalagem de 500 ML | AD9: UNIDADE | AE9: 269943 | AF9: 2.25
A10: NÚMERO DO PROCESSO LICITATÓRIO | B10: 23443.018810/2020-61 | D10: Categoria Profissional | E10: Agente de Limpeza | G10: Categoria Profissional | H10: Líder de Limpeza | J10: SAT- GIL/RAT | K10: 0.03 | M10: SAT- GIL/RAT | N10: 0.03 | P10: Total de Desligamentos | Q10: =SUBTOTAL(109,Tabela1551[Percentuais (%)]) -> 1 | S10: D. Subst. na cob. de Ausênc. por acidente de trabalho | T10: Acidente de trabalho | U10: =154800/34808000 -> 0.0044472535 | W10: 4 | X10: Chapéu tipo pescador com protetor de pescoço | Y10: 12 | AB10: 4 | AC10: Aromatizantes de ambientes concentrado liquido | AD10: GALÃO 5 L | AE10: 452508 | AF10: 12
A11: MUNICÍPIO DE PRESTAÇÃO DO SERVIÇO: | B11: EIRUNEPÉ | D11: Ano acordo, Convenção ou sentença normativa em dissídio coletivo da Repactuação | E11: AM000546/2021 | G11: Ano acordo, Convenção ou sentença normativa em dissídio coletivo da Repactuação | H11: AM000546/2021 | J11: SESC | K11: 0 | M11: SESC | N11: 0 | S11: E. Substituto na cobertura de Afastamento Maternidade | T11: Maternidade | U11: =13.54%*1.416%*36.8% -> 0.00070555315 | W11: 5 | X11: Crachá de identificação com Foto | Y11: 6 | AB11: 5 | AC11: Bobina de fio de nylon quadrado 3,0 mm 2kg para roçadeira | AD11: UNIDADE | AE11: 401337 | AF11: 15
A12: DATA DE APRESENTAÇÃO DA PROPOSTA (dia/mês/ano): | B12: 44624 | D12: Data base da categoria (Repactuação) | E12: 44562 | G12: Data base da categoria (Repactuação) | H12: 44562 | J12: SENAC | K12: 0 | M12: SENAC | N12: 0 | S12: F. Subst. na cob. de outras ausências (especificar) | T12: Afastamento por doença | U12: 1 | W12: 6 | X12: Meia em algodão, tipo soquete. | Y12: 6 | AB12: 6 | AC12: Cera acrílica autobrilhante, antiderrapante (incolor) | AD12: GALÃO 5L | AE12: 449257 | AF12: 15
A13: NÚMERO DA LICITAÇÃO | B13: 44562 | D13: Tipo de Trabalhador | E13: 44 h | G13: Tipo de Trabalhador | H13: 44 h | J13: SEBRAE | K13: 0 | M13: SEBRAE | N13: 0 | S13: F. Subst. na cob. de outras ausências (especificar) | T13: Consulta médica filho | U13: 0.1344 | X13: TOTAL | Y13: =SUBTOTAL(109,Y7:Y12) -> 99 | AB13: 7 | AC13: Cera acrílico. Galão 5 litros | AD13: GALÂO 5 L | AE13: 350872 | AF13: 15
A14: NUMERO DA CONVÊNCÃO COLETIVA DA CATEGORIA | B14: AM000546/2021 | D14: Dias de Trabalho | E14: 22 | G14: Dias de Trabalho | H14: 22 | J14: INCRA | K14: 0 | M14: INCRA | N14: 0 | S14: F. Subst. na cob. de outras ausências (especificar) | T14: Óbitos na família | U14: 0.0305 | AB14: 8 | AC14: Cera impermeabilizante 5L | AD14: GALÃO 5L | AE14: 351129 | AF14: 15
A15: NÚMERO DE MESES DE EXECUÇÃO CONTRATUAL | B15: 12 | D15: Carga Horária mensal | E15: 220 | G15: Carga Horária mensal | H15: 220 | J15: FGTS | K15: 0.08 | M15: FGTS | N15: 0.08 | S15: F. Subst. na cob. de outras ausências (especificar) | T15: Casamento | U15: 0.0118 | W15: ITEM | X15: EQUIPAMENTOS | Y15: CATMAT | Z15: PREÇO MEDIO UNITÁRIO | AB15: 9 | AC15: Cera impermeabilizante líquida de proteção e resistência prolongada a pisos com grande tráfego, com alto brilho, embalagem de 5 litros | AD15: GALÃO 5L | AE15: 355838 | AF15: 15
D16: Salario base CCT | E16: 1113 | G16: Salario base CCT | H16: 1355.05 | J16: PARÂMETROS - MÓDULO 6 | K16: =SUM(K17:K19) -> 0.1296 | M16: PARÂMETROS - MÓDULO 6 | N16: =SUM(N17:N19) -> 0.1296 | S16: F. Subst. na cob. de outras ausências (especificar) | T16: Doação de sangue | U16: 0.02 | X16: Aspirador de pó e água, tipo semi-profissional | Y16: 302248 | Z16: 240 | AB16: 10 | AC16: Cera liquida incolor | AD16: GALÃO 5L | AE16: 292586 | AF16: 15
D17: Hora Extra | E17: 0.5 | G17: Hora Extra | H17: 0.5 | J17: Custos Indiretos | K17: 0.05 | M17: Custos Indiretos | N17: 0.05 | S17: F. Subst. na cob. de outras ausências (especificar) | T17: Testemunho | U17: 0.004 | X17: Carrinho Plataforma | Y17: 225280 | Z17: 350 | AB17: 11 | AC17: Conjunto para proteção de chuvas, sendo Blusão e calça confeccionados em nylon emborrachado e/ou FR, costura e termoselado, jaqueta mangas longas, pala de ventilação na frente e nas costa, faixa refletiva nos braços e envolta do tórax, fechamento por zíper e pala com velcro. Calça elástico e cadarço na cintura, aleta com velcro para ajuste no tornozelo. | AD17: UNIDADE | AE17: 460643 | AF17: 35
D18: Hora Extra | E18: 0.6 | G18: Hora Extra | H18: 0.6 | J18: Lucro | K18: 0.05 | M18: Lucro | N18: 0.05 | S18: F. Subst. na cob. de outras ausências (especificar) | T18: Consulta pré-natal | U18: 0.0016 | X18: Lavadora/Enceradeira Industrial completa com acessórios (escova para limpeza, base suporte com velcro, Discos de Piso para Limpeza) | Y18: 30163 | Z18: 1200 | AB18: 12 | AC18: Desinfetante Concetrados com 5L | AD18: GALÃO 5L | AE18: 420084 | AF18: 15
D19: Hora Extra | E19: 1 | G19: Hora Extra | H19: 1 | J19: Tributos | K19: =SUM(K20:K22) -> 0.0296 | M19: Tributos | N19: =SUM(N20:N22) -> 0.0296 | X19: Escada de alumínio com 12 degraus, 3 m. | Y19: 267027 | Z19: 350 | AB19: 14 | AC19: Desencrustante alcalino (para desentupir banheiros e pias), frasco de 1 LITRO | AD19: FRASCO 1L | AE19: 472191 | AF19: 12
D20: Percentual de Periculosidade | E20: 0.3 | G20: Percentual de Periculosidade | H20: 0.3 | J20: PIS | K20: 0.0017 | M20: PIS | N20: 0.0017 | X20: Escada em alumínio de abrir com 7 degraus. | Y20: 231351 | Z20: 250 | AB20: 15 | AC20: Desengraxante líquido pra uso geral | AD20: LITRO | AE20: 388864 | AF20: 8
D21: Percentual de Insalubridade | E21: 0.1 | G21: Percentual de Insalubridade | H21: 0.1 | J21: COFINS | K21: 0.0079 | M21: COFINS | N21: 0.0079 | X21: Carro funcional para limpeza. | Y21: 298356 | Z21: 950 | AB21: 16 | AC21: Desentupidor de vaso sanitário | AD21: UNIDADE | AE21: 241711 | AF21: 8
D22: Vale Transporte | E22: 3.8 | G22: Vale Transporte | H22: 3.8 | J22: ISS | K22: 0.02 | M22: ISS | N22: 0.02 | X22: Lavadora de alta pressão compacta 2 rodas, no minimo de potencia 1,5 kW. Tipo semi-profissional, 110V . Modelo equivalente, ou similar e ou de melhor qualidade à KARCHER. | Y22: 150245 | Z22: 600 | AB22: 17 | AC22: Desinfetante concentrado líquido limpeza em geral, embalagem lacrada de 5 litros. | AD22: GALÃO 5L | AE22: 293351 | AF22: 12
D23: Vale Alimentação | E23: 14 | G23: Vale Alimentação | H23: 14 | J23: Enquadramento Tributário | K23: SIMPLES NACIONAL | M23: Enquadramento Tributário | N23: SIMPLES NACIONAL | X23: Óculos de Proteção. | Y23: 151039 | Z23: 12 | AB23: 18 | AC23: Desodorizador de ar, cada unidade contendo 400 ml | AD23: FRASCO 400ml | AE23: 331905 | AF23: 3.5
D24: Cesta Básica | E24: 85 | G24: Cesta Básica | H24: 85 | X24: Placa sinalizadora "cuidado piso molhado" | Y24: 347968 | Z24: 20 | AB24: 19 | AC24: Detergente biodegradável líquido para lavar louça, frasco com 500ml | AD24: FRASCO 500ml | AE24: 299607 | AF24: 1.5
D25: Qtde de V. Transporte Dia | E25: 2 | G25: Qtde de V. Transporte Dia | H25: 2 | X25: Podador PROFISSIONAL a gasolina | Y25: 468666 | Z25: 350 | AB25: 20 | AC25: Detergente 500ml | AD25: FRASCO 500ml | AE25: 449798 | AF25: 1.5
D26: % de Desconto Transporte | E26: 0.06 | G26: % de Desconto Transporte | H26: 0.06 | X26: Pulverizador Costal Manual Compressão Prévia 20 Litros com 4 bicos | Y26: 321859 | Z26: 120 | AB26: 21 | AC26: Detergente líquido neutro | AD26: LITRO | AE26: 432428 | AF26: 2.5
D27: Qtde de V. Alimentação Dia | E27: 1 | G27: Qtde de V. Alimentação Dia | H27: 1 | X27: Roçadeira STIHL FS 220 PROFISSIONAL | Y27: 151031 | Z27: 1200 | AB27: 22 | AC27: Detergente neutro emblagem em 5 litro | AD27: GALÃO 5L | AE27: 463157 | AF27: 9.5
D28: % de Desconto Alimentação | E28: 0.1 | G28: % de Desconto Alimentação | H28: 0.1 | X28: Carrinho de mão com caçamba metalica de 45 cm | Y28: 468625 | Z28: 75 | AB28: 23 | AC28: Disco de Piso para Limpeza Profissional | AD28: UNIDADE | AE28: 40231 | AF28: 8
D29: Assitencia Social e Familiar | E29: 10 | G29: Assitencia Social e Familiar | H29: 10 | X29: Outros (Especificar) | Y29: 0 | Z29: 0 | AB29: 24 | AC29: Dispenser para alcool gel em aço inox com pressão - 1000 ml | AD29: UNIDADE | AE29: 441576 | AF29: 35
D30: Plano Odontologico | E30: 15 | G30: Plano Odontologico | H30: 15 | AB30: 25 | AC30: Dispenser para alcool gel em aço inox com pressão - 500 ml | AD30: UNIDADE | AE30: 441576 | AF30: 35
AB31: 26 | AC31: Dispenser para alcool gel em plastico 800 ml | AD31: UNIDADE | AE31: 404651 | AF31: 35
W32: ITEM | X32: UTENSÍLIOS | Y32: CATMAT | Z32: VALOR | AB32: 27 | AC32: Dispenser para sabonete líquido em plastico 500 ml | AD32: UNIDADE | AE32: 441576 | AF32: 20
W33: 1 | X33: Assento vaso sanitário, material: plástico, cor: branca, características adicionais: almofadado características adicionais: compatível: vaso sanitário deca modelo Monte Carlo. | Y33: 396476 | Z33: 16.5 | AB33: 28 | AC33: Escova de mão multiuso | AD33: UNIDADE | AE33: 446274 | AF33: 3.5
W34: 2 | X34: Balde em plástico com alça de metal de 10L de capacidade | Y34: 216081 | Z34: 16 | AB34: 29 | AC34: Escova sanitária com recipiente | AD34: UNIDADE | AE34: 331870 | AF34: 12
W35: 3 | X35: Balde Plastico de 20 litros | Y35: 355563 | Z35: 14.5 | AB35: 30 | AC35: Espanador de teto cabo extensivo até 2,5 | AD35: UNIDADE | AE35: 30236 | AF35: 16
W36: 4 | X36: Balde Plastico de 12 litros | Y36: 417993 | Z36: 12 | AB36: 31 | AC36: Esponja de fibra com dupla face, pacote 10 unidade. | AD36: UNIDADE | AE36: 419326 | AF36: 4
W37: 5 | X37: Carrinho de Limpeza MOP | Y37: 123242 | Z37: 230 | AB37: 32 | AC37: Esponja de fibra uso geral-profissional 10x26 | AD37: UNIDADE | AE37: 422385 | AF37: 6
W38: 6 | X38: Balde espremedor MOP limpeza profissional | Y38: 307875 | Z38: 90 | AB38: 33 | AC38: Extensão de 50mt | AD38: UNIDADE | AE38: 428838 | AF38: 20
W39: 7 | X39: Espanador de mesa eletrostático em microfibra | Y39: 236909 | Z39: 12.5 | AB39: 34 | AC39: Flanela 100% algodao medindo 38x58cm, na cor branca | AD39: UNIDADE | AE39: 299630 | AF39: 5
W40: 8 | X40: Facão, material lâmina: aço carbono, material cabo; madeira, comprimento: 21 pol, tipo: terçado (anual) | Y40: 444084 | Z40: 16 | AB40: 35 | AC40: Frasco borrifador de plástico 500ml | AD40: UNIDADE | AE40: 272254 | AF40: 2.5
W41: 9 | X41: Lixeiras Multiuso Inox Prata de 15L com Pedal | Y41: 345502 | Z41: 45 | AB41: 36 | AC41: Inseticida aerossol ação total 300ml | AD41: UNIDADE | AE41: 405330 | AF41: 8
W42: 10 | X42: Pá caixa coletora em Poliestireno e cabo anatômico em alumínio com altura ergonômica | Y42: 236336 | Z42: 9 | AB42: 37 | AC42: Lâmina Navalha Em Hélice Para Roçadeira Furo De 1 | AD42: UNIDADE | AE42: 259208 | AF42: 6.5
W43: 11 | X43: Porta-papel higiênico, material: plástico abs, largura: 20 cm, altura: 27 cm, características adicionais: para rolo de 300 a 400 m | Y43: 287999 | Z43: 9.5 | AB43: 38 | AC43: Limpa vidros com álcool, tampa com esborrifador, embalagem com rg ms ou isento, embalagem com 500ml. | AD43: UNIDADE | AE43: 454030 | AF43: 4
W44: 12 | X44: Porta-toalha, material: plástico abs, cor: branca, tipo fixação: parede, tipo uso: toalha de papel, aplicação: banheiro, características adicionais: 2 dobras, visor transparente para verificação do | Y44: 301988 | Z44: 9.5 | AB44: 39 | AC44: Limpador de piso e cerâmica, frasco com 1 litro | AD44: UNIDADE | AE44: 264646 | AF44: 12
...

Sheet TABELA DE ATUALIZAÇÃO PROPOSTA
A3: Rótulos de Linha | B3: Soma de Área Efetiva em Diária | C3: Média de Produtividade | D3: Soma de Mão de Obras | E3: Média de Custo do M2 limpo pelo Agente | F3: Média de Custo do M2 limpo pelo Líder | G3: Média de Custo Total do M2 limpo | H3: Soma de Custo Mensal Estimado Agente | I3: Soma de Custo Mensal Estimado Lider | J3: Soma de Remuneração Mensal | K3: Soma de Tempo Unitário Estimado das Atividades
A4: 01.02.Laboratórios | B4: 328.38 | C4: 392 | D4: 0.83671329 | E4: 6.9140608 | F4: 1.6019716 | G4: 8.5160324 | H4: 2267.6365 | I4: 525.40603 | J4: 2793.0425 | K4: 0.30679398
A5: Laboratório de Informática | B5: 122.55 | C5: 390 | D5: 0.31423077 | E5: 6.9491576 | F5: 1.6101034 | G5: 8.559261 | H5: 851.61926 | I5: 197.31818 | J5: 1048.9374 | K5: 0.11521991
A6: Laboratório de Informática | B6: 69.75 | C6: 390 | D6: 0.17884615 | E6: 6.9491576 | F6: 1.6101034 | G6: 8.559261 | H6: 484.70374 | I6: 112.30471 | J6: 597.00846 | K6: 0.065578704
A7: Laboratório de informática - (Prédio Centro de Referência) | B7: 136.08 | C7: 396 | D7: 0.34363636 | E7: 6.8438673 | F7: 1.5857079 | G7: 8.4295752 | H7: 931.31346 | I7: 215.78313 | J7: 1147.0966 | K7: 0.12599537
A8: 01.02.Pisos Frios | B8: 3199.422 | C8: 1200 | D8: 2.666185 | E8: 2.2584762 | F8: 0.52328362 | G8: 2.7817598 | H8: 7225.8185 | I8: 1674.2051 | J8: 8900.0236 | K8: 0.97761574
A9: Sala dos coordenadores | B9: 65.16 | C9: 1200 | D9: 0.0543 | E9: 2.2584762 | F9: 0.52328362 | G9: 2.7817598 | H9: 147.16231 | I9: 34.09716 | J9: 181.25947 | K9: 0.019907407
A10: Área de circulação (corredor) | B10: 77.52 | C10: 1200 | D10: 0.0646 | E10: 2.2584762 | F10: 0.52328362 | G10: 2.7817598 | H10: 175.07708 | I10: 40.564946 | J10: 215.64202 | K10: 0.02369213
A11: Área de convivência | B11: 222.6 | C11: 1200 | D11: 0.1855 | E11: 2.2584762 | F11: 0.52328362 | G11: 2.7817598 | H11: 502.73681 | I11: 116.48293 | J11: 619.21974 | K11: 0.068020833
A12: Área próxima ao banheiro | B12: 21.09 | C12: 1200 | D12: 0.017575 | E12: 2.2584762 | F12: 0.52328362 | G12: 2.7817598 | H12: 47.631263 | I12: 11.036051 | J12: 58.667315 | K12: 0.0064467593
A13: Biblioteca | B13: 540 | C13: 1200 | D13: 0.45 | E13: 2.2584762 | F13: 0.52328362 | G13: 2.7817598 | H13: 1219.5772 | I13: 282.57315 | J13: 1502.1503 | K13: 0.165
A14: Corredor central | B14: 91.2 | C14: 1200 | D14: 0.076 | E14: 2.2584762 | F14: 0.52328362 | G14: 2.7817598 | H14: 205.97303 | I14: 47.723466 | J14: 253.6965 | K14: 0.02787037
A15: Corredor lateral | B15: 47.4 | C15: 1200 | D15: 0.0395 | E15: 2.2584762 | F15: 0.52328362 | G15: 2.7817598 | H15: 107.05177 | I15: 24.803643 | J15: 131.85542 | K15: 0.014479167
... A59: Total Geral | B59: 4252.1404 | C59: 1115.8367 | D59: 5.0002919 | E59: 4.0820467 | F59: 0.9458006 | G59: 5.0278473 | H59: 13551.648 | I59: 3139.885 | J59: 16691.533 | K59: 1.8334491

Sheet PROPOSTA EM M2
A1: Item | B1: Tipo da Área | C1: Área Efetiva Mensal | D1: Produtividade Média Diária | E1: Mão de Obra | F1: Média de custos do M2 limpo pelo Agente | G1: Média de custos do M2 limpo pelo Líder | H1: Média de Custos do M2 limpo total | I1: Remuneração Mensal Agente | J1: Remuneração Mensal Líder | K1: Remuneração Mensal Total | L1: Meses do Contrato | M1: Remuneração Anual
A2: 1 | B2: 01.02.Pisos Frios | C2: =IF(Tabela7[[#This Row],[Tipo da Área]]="","",VLOOKUP(Tabela7[[#This Row],[Tipo da Área]],'TABELA DE ATUALIZAÇÃO PROPOSTA'!$A$3:$K$59,2,FALSE)) -> 3199.422 | D2: =VLOOKUP(Tabela7[[#This Row],[Tipo da Área]],'TABELA DE ATUALIZAÇÃO PROPOSTA'!$A$4:$K$60,3,FALSE) -> 1200 | E2: =IF(Tabela7[[#This Row],[Tipo da Área]]="","",VLOOKUP(Tabela7[[#This Row],[Tipo da Área]],'TABELA DE ATUALIZAÇÃO PROPOSTA'!$A$3:$K$59,4,FALSE)) -> 2.666185 | F2: =IF(Tabela7[[#This Row],[Tipo da Área]]="","",VLOOKUP(Tabela7[[#This Row],[Tipo da Área]],'TABELA DE ATUALIZAÇÃO PROPOSTA'!$A$3:$K$59,5,FALSE)) -> 2.2584762 | G2: =IF(Tabela7[[#This Row],[Tipo da Área]]="","",VLOOKUP(Tabela7[[#This Row],[Tipo da Área]],'TABELA DE ATUALIZAÇÃO PROPOSTA'!$A$3:$K$59,6,FALSE)) -> 0.52328362 | H2: =IF(Tabela7[[#This Row],[Tipo da Área]]="","",VLOOKUP(Tabela7[[#This Row],[Tipo da Área]],'TABELA DE ATUALIZAÇÃO PROPOSTA'!$A$3:$K$59,7,FALSE)) -> 2.7817598 | I2: =IF(Tabela7[[#This Row],[Tipo da Área]]="","",VLOOKUP(Tabela7[[#This Row],[Tipo da Área]],'TABELA DE ATUALIZAÇÃO PROPOSTA'!$A$3:$K$59,8,FALSE)) -> 7225.8185 | J2: =IF(Tabela7[[#This Row],[Tipo da Área]]="","",VLOOKUP(Tabela7[[#This Row],[Tipo da Área]],'TABELA DE ATUALIZAÇÃO PROPOSTA'!$A$3:$K$59,9,FALSE)) -> 1674.2051 | K2: =IF(Tabela7[[#This Row],[Tipo da Área]]="","",VLOOKUP(Tabela7[[#This Row],[Tipo da Área]],'TABELA DE ATUALIZAÇÃO PROPOSTA'!$A$3:$K$59,10,FALSE)) -> 8900.0236 | L2: 12 | M2: =Tabela7[[#This Row],[Meses do Contrato]]*Tabela7[[#This Row],[Remuneração Mensal Total]] -> 106800.28
A3: 2 | B3: 01.02.Laboratórios | C3: =IF(Tabela7[[#This Row],[Tipo da Área]]="","",VLOOKUP(Tabela7[[#This Row],[Tipo da Área]],'TABELA DE ATUALIZAÇÃO PROPOSTA'!$A$3:$K$59,2,FALSE)) -> 328.38 | D3: =VLOOKUP(Tabela7[[#This Row],[Tipo da Área]],'TABELA DE ATUALIZAÇÃO PROPOSTA'!$A$4:$K$60,3,FALSE) -> 392 | E3: =IF(Tabela7[[#This Row],[Tipo da Área]]="","",VLOOKUP(Tabela7[[#This Row],[Tipo da Área]],'TABELA DE ATUALIZAÇÃO PROPOSTA'!$A$3:$K$59,4,FALSE)) -> 0.83671329 | F3: =IF(Tabela7[[#This Row],[Tipo da Área]]="","",VLOOKUP(Tabela7[[#This Row],[Tipo da Área]],'TABELA DE ATUALIZAÇÃO PROPOSTA'!$A$3:$K$59,5,FALSE)) -> 6.9140608 | G3: =IF(Tabela7[[#This Row],[Tipo da Área]]="","",VLOOKUP(Tabela7[[#This Row],[Tipo da Área]],'TABELA DE ATUALIZAÇÃO PROPOSTA'!$A$3:$K$59,6,FALSE)) -> 1.6019716 | H3: =IF(Tabela7[[#This Row],[Tipo da Área]]="","",VLOOKUP(Tabela7[[#This Row],[Tipo da Área]],'TABELA DE ATUALIZAÇÃO PROPOSTA'!$A$3:$K$59,7,FALSE)) -> 8.5160324 | I3: =IF(Tabela7[[#This Row],[Tipo da Área]]="","",VLOOKUP(Tabela7[[#This Row],[Tipo da Área]],'TABELA DE ATUALIZAÇÃO PROPOSTA'!$A$3:$K$59,8,FALSE)) -> 2267.6365 | J3: =IF(Tabela7[[#This Row],[Tipo da Área]]="","",VLOOKUP(Tabela7[[#This Row],[Tipo da Área]],'TABELA DE ATUALIZAÇÃO PROPOSTA'!$A$3:$K$59,9,FALSE)) -> 525.40603 | K3: =IF(Tabela7[[#This Row],[Tipo da Área]]="","",VLOOKUP(Tabela7[[#This Row],[Tipo da Área]],'TABELA DE ATUALIZAÇÃO PROPOSTA'!$A$3:$K$59,10,FALSE)) -> 2793.0425 | L3: 12 | M3: =Tabela7[[#This Row],[Meses do Contrato]]*Tabela7[[#This Row],[Remuneração Mensal Total]] -> 33516.51
A4: 3 | B4: 01.06.Banheiros | C4: =IF(Tabela7[[#This Row],[Tipo da Área]]="","",VLOOKUP(Tabela7[[#This Row],[Tipo da Área]],'TABELA DE ATUALIZAÇÃO PROPOSTA'!$A$3:$K$59,2,FALSE)) -> 155.9784 | D4: =VLOOKUP(Tabela7[[#This Row],[Tipo da Área]],'TABELA DE ATUALIZAÇÃO PROPOSTA'!$A$4:$K$60,3,FALSE) -> 300 | E4: =IF(Tabela7[[#This Row],[Tipo da Área]]="","",VLOOKUP(Tabela7[[#This Row],[Tipo da Área]],'TABELA DE ATUALIZAÇÃO PROPOSTA'!$A$3:$K$59,4,FALSE)) -> 0.519928 | F4: =IF(Tabela7[[#This Row],[Tipo da Área]]="","",VLOOKUP(Tabela7[[#This Row],[Tipo da Área]],'TABELA DE ATUALIZAÇÃO PROPOSTA'!$A$3:$K$59,5,FALSE)) -> 9.0339049 | G4: =IF(Tabela7[[#This Row],[Tipo da Área]]="","",VLOOKUP(Tabela7[[#This Row],[Tipo da Área]],'TABELA DE ATUALIZAÇÃO PROPOSTA'!$A$3:$K$59,6,FALSE)) -> 2.0931345 | H4: =IF(Tabela7[[#This Row],[Tipo da Área]]="","",VLOOKUP(Tabela7[[#This Row],[Tipo da Área]],'TABELA DE ATUALIZAÇÃO PROPOSTA'!$A$3:$K$59,7,FALSE)) -> 11.127039 | I4: =IF(Tabela7[[#This Row],[Tipo da Área]]="","",VLOOKUP(Tabela7[[#This Row],[Tipo da Área]],'TABELA DE ATUALIZAÇÃO PROPOSTA'!$A$3:$K$59,8,FALSE)) -> 1409.094 | J4: =IF(Tabela7[[#This Row],[Tipo da Área]]="","",VLOOKUP(Tabela7[[#This Row],[Tipo da Área]],'TABELA DE ATUALIZAÇÃO PROPOSTA'!$A$3:$K$59,9,FALSE)) -> 326.48376 | K4: =IF(Tabela7[[#This Row],[Tipo da Área]]="","",VLOOKUP(Tabela7[[#This Row],[Tipo da Área]],'TABELA DE ATUALIZAÇÃO PROPOSTA'!$A$3:$K$59,10,FALSE)) -> 1735.5778 | L4: 12 | M4: =Tabela7[[#This Row],[Meses do Contrato]]*Tabela7[[#This Row],[Remuneração Mensal Total]] -> 20826.933
A5: 4 | B5: 02.01.Pisos pavimentados adjacentes e contíguos às edificações | C5: =IF(Tabela7[[#This Row],[Tipo da Área]]="","",VLOOKUP(Tabela7[[#This Row],[Tipo da Área]],'TABELA DE ATUALIZAÇÃO PROPOSTA'!$A$3:$K$59,2,FALSE)) -> 424.5 | D5: =VLOOKUP(Tabela7[[#This Row],[Tipo da Área]],'TABELA DE ATUALIZAÇÃO PROPOSTA'!$A$4:$K$60,3,FALSE) -> 2700 | E5: =IF(Tabela7[[#This Row],[Tipo da Área]]="","",VLOOKUP(Tabela7[[#This Row],[Tipo da Área]],'TABELA DE ATUALIZAÇÃO PROPOSTA'!$A$3:$K$59,4,FALSE)) -> 0.15722222 | F5: =IF(Tabela7[[#This Row],[Tipo da Área]]="","",VLOOKUP(Tabela7[[#This Row],[Tipo da Área]],'TABELA DE ATUALIZAÇÃO PROPOSTA'!$A$3:$K$59,5,FALSE)) -> 1.0037672 | G5: =IF(Tabela7[[#This Row],[Tipo da Área]]="","",VLOOKUP(Tabela7[[#This Row],[Tipo da Área]],'TABELA DE ATUALIZAÇÃO PROPOSTA'!$A$3:$K$59,6,FALSE)) -> 0.2325705 | H5: =IF(Tabela7[[#This Row],[Tipo da Área]]="","",VLOOKUP(Tabela7[[#This Row],[Tipo da Área]],'TABELA DE ATUALIZAÇÃO PROPOSTA'!$A$3:$K$59,7,FALSE)) -> 1.2363377 | I5: =IF(Tabela7[[#This Row],[Tipo da Área]]="","",VLOOKUP(Tabela7[[#This Row],[Tipo da Área]],'TABELA DE ATUALIZAÇÃO PROPOSTA'!$A$3:$K$59,8,FALSE)) -> 426.09918 | J5: =IF(Tabela7[[#This Row],[Tipo da Área]]="","",VLOOKUP(Tabela7[[#This Row],[Tipo da Área]],'TABELA DE ATUALIZAÇÃO PROPOSTA'!$A$3:$K$59,9,FALSE)) -> 98.726176 | K5: =IF(Tabela7[[#This Row],[Tipo da Área]]="","",VLOOKUP(Tabela7[[#This Row],[Tipo da Área]],'TABELA DE ATUALIZAÇÃO PROPOSTA'!$A$3:$K$59,10,FALSE)) -> 524.82535 | L5: 12 | M5: =Tabela7[[#This Row],[Meses do Contrato]]*Tabela7[[#This Row],[Remuneração Mensal Total]] -> 6297.9043
A6: 5 | B6: 03.01.Face externa com exposição a situação de risco | C6: =IF(Tabela7[[#This Row],[Tipo da Área]]="","",VLOOKUP(Tabela7[[#This Row],[Tipo da Área]],'TABELA DE ATUALIZAÇÃO PROPOSTA'!$A$3:$K$59,2,FALSE)) -> 99.64 | D6: =VLOOKUP(Tabela7[[#This Row],[Tipo da Área]],'TABELA DE ATUALIZAÇÃO PROPOSTA'!$A$4:$K$60,3,FALSE) -> 160 | E6: =IF(Tabela7[[#This Row],[Tipo da Área]]="","",VLOOKUP(Tabela7[[#This Row],[Tipo da Área]],'TABELA DE ATUALIZAÇÃO PROPOSTA'!$A$3:$K$59,4,FALSE)) -> 0.62275 | F6: =IF(Tabela7[[#This Row],[Tipo da Área]]="","",VLOOKUP(Tabela7[[#This Row],[Tipo da Área]],'TABELA DE ATUALIZAÇÃO PROPOSTA'!$A$3:$K$59,5,FALSE)) -> 16.938572 | G6: =IF(Tabela7[[#This Row],[Tipo da Área]]="","",VLOOKUP(Tabela7[[#This Row],[Tipo da Área]],'TABELA DE ATUALIZAÇÃO PROPOSTA'!$A$3:$K$59,6,FALSE)) -> 3.9246271 | H6: =IF(Tabela7[[#This Row],[Tipo da Área]]="","",VLOOKUP(Tabela7[[#This Row],[Tipo da Área]],'TABELA DE ATUALIZAÇÃO PROPOSTA'!$A$3:$K$59,7,FALSE)) -> 20.863199 | I6: =IF(Tabela7[[#This Row],[Tipo da Área]]="","",VLOOKUP(Tabela7[[#This Row],[Tipo da Área]],'TABELA DE ATUALIZAÇÃO PROPOSTA'!$A$3:$K$59,8,FALSE)) -> 1687.7593 | J6: =IF(Tabela7[[#This Row],[Tipo da Área]]="","",VLOOKUP(Tabela7[[#This Row],[Tipo da Área]],'TABELA DE ATUALIZAÇÃO PROPOSTA'!$A$3:$K$59,9,FALSE)) -> 391.04985 | K6: =IF(Tabela7[[#This Row],[Tipo da Área]]="","",VLOOKUP(Tabela7[[#This Row],[Tipo da Área]],'TABELA DE ATUALIZAÇÃO PROPOSTA'!$A$3:$K$59,10,FALSE)) -> 2078.8091 | L6: 12 | M6: =Tabela7[[#This Row],[Meses do Contrato]]*Tabela7[[#This Row],[Remuneração Mensal Total]] -> 24945.709
A7: 6 | B7: 03.03.Face interna | C7: =IF(Tabela7[[#This Row],[Tipo da Área]]="","",VLOOKUP(Tabela7[[#This Row],[Tipo da Área]],'TABELA DE ATUALIZAÇÃO PROPOSTA'!$A$3:$K$59,2,FALSE)) -> 21.8 | D7: =VLOOKUP(Tabela7[[#This Row],[Tipo da Área]],'TABELA DE ATUALIZAÇÃO PROPOSTA'!$A$4:$K$60,3,FALSE) -> 380 | E7: =IF(Tabela7[[#This Row],[Tipo da Área]]="","",VLOOKUP(Tabela7[[#This Row],[Tipo da Área]],'TABELA DE ATUALIZAÇÃO PROPOSTA'!$A$3:$K$59,4,FALSE)) -> 0.057368421 | F7: =IF(Tabela7[[#This Row],[Tipo da Área]]="","",VLOOKUP(Tabela7[[#This Row],[Tipo da Área]],'TABELA DE ATUALIZAÇÃO PROPOSTA'!$A$3:$K$59,5,FALSE)) -> 7.1320302 | G7: =IF(Tabela7[[#This Row],[Tipo da Área]]="","",VLOOKUP(Tabela7[[#This Row],[Tipo da Área]],'TABELA DE ATUALIZAÇÃO PROPOSTA'!$A$3:$K$59,6,FALSE)) -> 1.6524746 | H7: =IF(Tabela7[[#This Row],[Tipo da Área]]="","",VLOOKUP(Tabela7[[#This Row],[Tipo da Área]],'TABELA DE ATUALIZAÇÃO PROPOSTA'!$A$3:$K$59,7,FALSE)) -> 8.7845047 | I7: =IF(Tabela7[[#This Row],[Tipo da Área]]="","",VLOOKUP(Tabela7[[#This Row],[Tipo da Área]],'TABELA DE ATUALIZAÇÃO PROPOSTA'!$A$3:$K$59,8,FALSE)) -> 155.47826 | J7: =IF(Tabela7[[#This Row],[Tipo da Área]]="","",VLOOKUP(Tabela7[[#This Row],[Tipo da Área]],'TABELA DE ATUALIZAÇÃO PROPOSTA'!$A$3:$K$59,9,FALSE)) -> 36.023946 | K7: =IF(Tabela7[[#This Row],[Tipo da Área]]="","",VLOOKUP(Tabela7[[#This Row],[Tipo da Área]],'TABELA DE ATUALIZAÇÃO PROPOSTA'!$A$3:$K$59,10,FALSE)) -> 191.5022 | L7: 12 | M7: =Tabela7[[#This Row],[Meses do Contrato]]*Tabela7[[#This Row],[Remuneração Mensal Total]] -> 2298.0264
A8: 7 | B8: 04.01.Fachadas Envidraçadas | C8: =IF(Tabela7[[#This Row],[Tipo da Área]]="","",VLOOKUP(Tabela7[[#This Row],[Tipo da Área]],'TABELA DE ATUALIZAÇÃO PROPOSTA'!$A$3:$K$59,2,FALSE)) -> 22.42 | D8: =VLOOKUP(Tabela7[[#This Row],[Tipo da Área]],'TABELA DE ATUALIZAÇÃO PROPOSTA'!$A$4:$K$60,3,FALSE) -> 160 | E8: =IF(Tabela7[[#This Row],[Tipo da Área]]="","",VLOOKUP(Tabela7[[#This Row],[Tipo da Área]],'TABELA DE ATUALIZAÇÃO PROPOSTA'!$A$3:$K$59,4,FALSE)) -> 0.140125 | F8: =IF(Tabela7[[#This Row],[Tipo da Área]]="","",VLOOKUP(Tabela7[[#This Row],[Tipo da Área]],'TABELA DE ATUALIZAÇÃO PROPOSTA'!$A$3:$K$59,5,FALSE)) -> 16.938572 | G8: =IF(Tabela7[[#This Row],[Tipo da Área]]="","",VLOOKUP(Tabela7[[#This Row],[Tipo da Área]],'TABELA DE ATUALIZAÇÃO PROPOSTA'!$A$3:$K$59,6,FALSE)) -> 3.9246271 | H8: =IF(Tabela7[[#This Row],[Tipo da Área]]="","",VLOOKUP(Tabela7[[#This Row],[Tipo da Área]],'TABELA DE ATUALIZAÇÃO PROPOSTA'!$A$3:$K$59,7,FALSE)) -> 20.863199 | I8: =IF(Tabela7[[#This Row],[Tipo da Área]]="","",VLOOKUP(Tabela7[[#This Row],[Tipo da Área]],'TABELA DE ATUALIZAÇÃO PROPOSTA'!$A$3:$K$59,8,FALSE)) -> 379.76278 | J8: =IF(Tabela7[[#This Row],[Tipo da Área]]="","",VLOOKUP(Tabela7[[#This Row],[Tipo da Área]],'TABELA DE ATUALIZAÇÃO PROPOSTA'!$A$3:$K$59,9,FALSE)) -> 87.99014 | K8: =IF(Tabela7[[#This Row],[Tipo da Área]]="","",VLOOKUP(Tabela7[[#This Row],[Tipo da Área]],'TABELA DE ATUALIZAÇÃO PROPOSTA'!$A$3:$K$59,10,FALSE)) -> 467.75292 | L8: 12 | M8: =Tabela7[[#This Row],[Meses do Contrato]]*Tabela7[[#This Row],[Remuneração Mensal Total]] -> 5613.035
B9: Total | C9: =SUBTOTAL(109,Tabela7[Área Efetiva Mensal]) -> 4252.1404 | D9: Calculado | E9: =SUBTOTAL(109,Tabela7[Mão de Obra]) -> 5.0002919 | F9: =SUBTOTAL(101,Tabela7[Média de custos do M2 limpo pelo Agente]) -> 8.6027689 | G9: =SUBTOTAL(101,Tabela7[Média de custos do M2 limpo pelo Líder]) -> 1.9932413 | H9: =SUBTOTAL(101,Tabela7[Média de Custos do M2 limpo total]) -> 10.59601 | I9: =SUBTOTAL(109,Tabela7[Remuneração Mensal Agente]) -> 13551.648 | J9: =SUBTOTAL(109,Tabela7[Remuneração Mensal Líder]) -> 3139.885 | K9: =SUBTOTAL(109,Tabela7[Remuneração Mensal Total]) -> 16691.533 | L9: =SUBTOTAL(101,Tabela7[Meses do Contrato]) -> 12 | M9: =SUBTOTAL(109,Tabela7[Remuneração Anual]) -> 200298.4
D10: Material | K10: =Tabela14[[#Totals],[CUSTO MÉDIO MENSAL (R$)]] -> 3308.4662 | L10: 12 | M10: =L10*K10 -> 39701.595
D11: Total Geral | M11: =Tabela7[[#Totals],[Remuneração Anual]]+M10 -> 240000

Sheet PLANILHA DE CUSTOS
A1: Nº do Processo: | B1: ='PARAMETROS DA CONTRATAÇÃO'!B10 -> 23443.018810/2020-61
A2: Licitação Nº: | B2: ='PARAMETROS DA CONTRATAÇÃO'!B13 -> 44562
A3: Razão Social | B3: ='PARAMETROS DA CONTRATAÇÃO'!B7 -> GM CONSERVAÇÃO E LIMPEZA EIRELI
A4: CNPJ | B4: ='PARAMETROS DA CONTRATAÇÃO'!B8 -> 17.764.351/0001-71
A6: A | B6: Data de apresentação da proposta (dia/mês/ano): | C6: ='PARAMETROS DA CONTRATAÇÃO'!B12 -> 44624
A7: B | B7: Município/UF: | C7: ='PARAMETROS DA CONTRATAÇÃO'!B11 -> EIRUNEPÉ
A8: C | B8: Ano do Acordo, Convenção ou Dissídio Coletivo: | C8: ='PARAMETROS DA CONTRATAÇÃO'!E11 -> AM000546/2021
A9: D | B9: Número de meses de execução contratual: | C9: ='PARAMETROS DA CONTRATAÇÃO'!B15 -> 12
A11: IDENTIFICAÇÃO DO SERVIÇO
A12: Tipo de Serviço | B12: Unidade de Medida | C12: Quantidade total a contratar (Em função da unidade de medida) | F12: Cargo | G12: Custo Total
A13: Limpeza e Conservação | B13: Metro Quadrado | C13: =Tabela5[[#Totals],[Área Efetiva em Diária]] -> 4252.1404 | F13: =E25 -> Lider de Limpeza | G13: =G92 -> 3139.885
F14: =A25 -> Auxiliar de Limpeza | G14: =C92 -> 2710.1715
A17: Dados para composição dos custos referentes a mão de obra | E17: Dados para composição dos custos referentes a mão de obra
A18: 1 | B18: Tipo de Serviço (mesmo serviço com características distintas) | C18: Agente de Limpeza | E18: 1 | F18: Tipo de Serviço (mesmo serviço com características distintas) | G18: Lider de Serviços
A19: 2 | B19: Classificação Brasileira de Ocupações (CBO) | C19: 51430-20 | E19: 2 | F19: Classificação Brasileira de Ocupações (CBO) | G19: 4101-05
A20: 3 | B20: Salário Normativo da Categoria Profissional | C20: ='PARAMETROS DA CONTRATAÇÃO'!E16 -> 1113 | E20: 3 | F20: Salário Normativo da Categoria Profissional | G20: ='PARAMETROS DA CONTRATAÇÃO'!H16 -> 1355.05
A21: 4 | B21: Categoria Profissional (vinculada à execução contratual) | C21: ='PARAMETROS DA CONTRATAÇÃO'!E10 -> Agente de Limpeza | E21: 4 | F21: Categoria Profissional (vinculada à execução contratual) | G21: ='PARAMETROS DA CONTRATAÇÃO'!H10 -> Líder de Limpeza
A22: 5 | B22: Data-Base da Categoria (dia/mês/ano) | C22: ='PARAMETROS DA CONTRATAÇÃO'!E12 -> 44562 | E22: 5 | F22: Data-Base da Categoria (dia/mês/ano) | G22: ='PARAMETROS DA CONTRATAÇÃO'!H12 -> 44562
A25: Auxiliar de Limpeza | E25: Lider de Limpeza
A26: MÓDULO 1 - REMUNERAÇÃO | E26: MÓDULO 1 - REMUNERAÇÃO
A27: 1 | B27: Remuneração | C27: =SUM(C28) -> 1113 | E27: 1 | F27: Remuneração | G27: =SUM(G28) -> 1355.05
A28: A | B28: Salário-Base | C28: ='DEMAIS MÓDULOS'!B3 -> 1113 | E28: A | F28: Salário-Base | G28: ='DEMAIS MÓDULOS'!B2 -> 1355.05
A30: Módulo 2 - Encargos e Benefícios Anuais, Mensais e Diários | E30: Módulo 2 - Encargos e Benefícios Anuais, Mensais e Diários
A31: 2.1 | B31: Submódulo 2.1 - 13º (décimo terceiro) Salário, Férias e Adicional de Férias | C31: =SUM(C32:C33) -> 216.41667 | E31: 2.1 | F31: Submódulo 2.1 - 13º (décimo terceiro) Salário, Férias e Adicional de Férias | G31: =SUM(G32:G33) -> 263.48194
A32: A | B32: 13º (décimo terceiro) Salário | C32: ='DEMAIS MÓDULOS'!E32 -> 92.75 | E32: A | F32: 13º (décimo terceiro) Salário | G32: ='DEMAIS MÓDULOS'!B26 -> 112.92083
A33: B | B33: Férias e Adicional de Férias | C33: ='DEMAIS MÓDULOS'!E33+'DEMAIS MÓDULOS'!F37 -> 123.66667 | E33: B | F33: Férias e Adicional de Férias | G33: =SUM('DEMAIS MÓDULOS'!C26:D26) -> 150.56111
A34: 2.2 | B34: Submódulo 2.2 - Encargos Previdenciários (GPS), Fundo de Garantia por Tempo de Serviço (FGTS) e outras contribuições. | C34: =SUM(C35:C36) -> 412.11917 | E34: 2.2 | F34: Submódulo 2.2 - Encargos Previdenciários (GPS), Fundo de Garantia por Tempo de Serviço (FGTS) e outras contribuições. | G34: =SUM(G35:G36) -> 501.7449
A35: A | B35: GPS e outras contribuições | C35: ='DEMAIS MÓDULOS'!E42 -> 305.76583 | E35: A | F35: GPS e outras contribuições | G35: ='DEMAIS MÓDULOS'!E40 -> 372.26235
A36: B | B36: FGTS | C36: ='DEMAIS MÓDULOS'!E43 -> 106.35333 | E36: B | F36: FGTS | G36: ='DEMAIS MÓDULOS'!E41 -> 129.48256
A37: 2.3 | B37: Submódulo 2.3 - Benefícios Mensais e Diários. | C37: =SUM(C38:C42) -> 487.62 | E37: 2.3 | F37: Submódulo 2.3 - Benefícios Mensais e Diários. | G37: =SUM(G38:G42) -> 473.097
A38: A | B38: Transporte | C38: ='DEMAIS MÓDULOS'!J48 -> 100.42 | E38: A | F38: Transporte | G38: ='DEMAIS MÓDULOS'!J46 -> 85.897
A39: B | B39: Auxílio-Refeição/Alimentação | C39: ='DEMAIS MÓDULOS'!J49 -> 277.2 | E39: B | F39: Auxílio-Refeição/Alimentação | G39: ='DEMAIS MÓDULOS'!J47 -> 277.2
A40: C | B40: Assistência Médica e Familiar | C40: ='DEMAIS MÓDULOS'!E56 -> 10 | E40: C | F40: Assistência Médica e Familiar | G40: ='DEMAIS MÓDULOS'!E53 -> 10
A41: D | B41: Plano Odontplógico | C41: ='DEMAIS MÓDULOS'!E57 -> 15 | E41: D | F41: Plano Odontológico | G41: ='DEMAIS MÓDULOS'!E54 -> 15
A42: E | B42: Cesta Básica | C42: ='DEMAIS MÓDULOS'!E55 -> 85 | E42: E | F42: Cesta Básica | G42: ='DEMAIS MÓDULOS'!E52 -> 85
A44: Quadro-Resumo do Módulo 2 - Encargos e Benefícios anuais, mensais e diários | E44: Quadro-Resumo do Módulo 2 - Encargos e Benefícios anuais, mensais e diários
A45: 2 | B45: Encargos e Benefícios Anuais, Mensais e Diários | C45: =SUM(C46:C48) -> 1116.1558 | E45: 2 | F45: Encargos e Benefícios Anuais, Mensais e Diários | G45: =SUM(G46:G48) -> 1238.3238
A46: 2.1 | B46: 13º (décimo terceiro) Salário, Férias e Adicional de Férias | C46: =C31 -> 216.41667 | E46: 2.1 | F46: 13º (décimo terceiro) Salário, Férias e Adicional de Férias | G46: =G31 -> 263.48194
A47: 2.2 | B47: GPS, FGTS e outras contribuições | C47: =C34 -> 412.11917 | E47: 2.2 | F47: GPS, FGTS e outras contribuições | G47: =G34 -> 501.7449
A48: 2.3 | B48: Benefícios Mensais e Diários | C48: =C37 -> 487.62 | E48: 2.3 | F48: Benefícios Mensais e Diários | G48: =G37 -> 473.097
...

Sheet MATERIAIS
A1: ITEM | B1: DESCRIÇÃO | C1: UNIDADE | D1: CATMAT | E1: QTD MENSAL | F1: QTD ANUAL | G1: PREÇO MÉDIO UNITÁRIO (R$) | H1: CUSTO MÉDIO MENSAL (R$) | I1: CUSTO MÉDIO ANUAL (R$)
A2: 1 | B2: Água sanitária de 1ª qualidade | C2: GARRAFAS 1L | D2: 226700 | E2: =Tabela14[[#This Row],[QTD ANUAL]]/12 -> 48 | F2: 576 | G2: ='PARAMETROS DA CONTRATAÇÃO'!AF7 -> 6.5 | H2: =G2*E2 -> 312 | I2: =G2*F2 -> 3744
A3: 2 | B3: Álcool , de 1ª qualidade, 92° a 93° INPM | C3: GARRAFAS 1L | D3: 441577 | E3: =Tabela14[[#This Row],[QTD ANUAL]]/12 -> 24 | F3: 288 | G3: ='PARAMETROS DA CONTRATAÇÃO'!AF8 -> 1.758 | H3: =G3*E3 -> 42.192 | I3: =G3*F3 -> 506.304
A4: 3 | B4: Álcool em gel 70º INPM embalagem de 500 ML | C4: UNIDADE | D4: 269943 | E4: =Tabela14[[#This Row],[QTD ANUAL]]/12 -> 24 | F4: 288 | G4: ='PARAMETROS DA CONTRATAÇÃO'!AF9 -> 2.25 | H4: =G4*E4 -> 54 | I4: =G4*F4 -> 648
A5: 4 | B5: Aromatizantes de ambientes concentrado liquido | C5: GALÃO 5 L | D5: 452508 | E5: =Tabela14[[#This Row],[QTD ANUAL]]/12 -> 0 | F5: 0 | G5: ='PARAMETROS DA CONTRATAÇÃO'!AF10 -> 12 | H5: =G5*E5 -> 0 | I5: =G5*F5 -> 0
A6: 5 | B6: Bobina de fio de nylon quadrado 3,0 mm 2kg para roçadeira | C6: UNIDADE | D6: 401337 | E6: =Tabela14[[#This Row],[QTD ANUAL]]/12 -> 0 | F6: 0 | G6: ='PARAMETROS DA CONTRATAÇÃO'!AF11 -> 15 | H6: =G6*E6 -> 0 | I6: =G6*F6 -> 0
A7: 6 | B7: Cera acrílica autobrilhante, antiderrapante (incolor) | C7: GALÃO 5L | D7: 449257 | E7: =Tabela14[[#This Row],[QTD ANUAL]]/12 -> 0 | F7: 0 | G7: ='PARAMETROS DA CONTRATAÇÃO'!AF12 -> 15 | H7: =G7*E7 -> 0 | I7: =G7*F7 -> 0
A8: 7 | B8: Cera acrílico. Galão 5 litros | C8: GALÂO 5 L | D8: 350872 | E8: =Tabela14[[#This Row],[QTD ANUAL]]/12 -> 0 | F8: 0 | G8: ='PARAMETROS DA CONTRATAÇÃO'!AF13 -> 15 | H8: =G8*E8 -> 0 | I8: =G8*F8 -> 0
A9: 8 | B9: Cera impermeabilizante 5L | C9: GALÃO 5L | D9: 351129 | E9: =Tabela14[[#This Row],[QTD ANUAL]]/12 -> 0 | F9: 0 | G9: ='PARAMETROS DA CONTRATAÇÃO'!AF14 -> 15 | H9: =G9*E9 -> 0 | I9: =G9*F9 -> 0
